BEGIN:VCALENDAR
VERSION:2.0
PRODID:-//Sagepoint Senior Living Services - ECPv5.8.1//NONSGML v1.0//EN
CALSCALE:GREGORIAN
METHOD:PUBLISH
X-WR-CALNAME:Sagepoint Senior Living Services
X-ORIGINAL-URL:https://www.sagepointcare.org
X-WR-CALDESC:Events for Sagepoint Senior Living Services
BEGIN:VTIMEZONE
TZID:UTC
BEGIN:STANDARD
TZOFFSETFROM:+0000
TZOFFSETTO:+0000
TZNAME:UTC
DTSTART:20150101T000000
END:STANDARD
END:VTIMEZONE
BEGIN:VEVENT
DTSTART;TZID=UTC:20150301T113000
DTEND;TZID=UTC:20150301T123000
DTSTAMP:20260419T172023
CREATED:20150306T165941Z
LAST-MODIFIED:20150323T152750Z
UID:1094-1425209400-1425213000@www.sagepointcare.org
SUMMARY:Pump It Up
DESCRIPTION:Moving to the Music!! Invigorating Exercise to get that blood pumping!!
URL:https://www.sagepointcare.org/activity/pump/
END:VEVENT
END:VCALENDAR