BEGIN:VCALENDAR
VERSION:2.0
PRODID:-//Sagepoint Senior Living Services - ECPv5.8.1//NONSGML v1.0//EN
CALSCALE:GREGORIAN
METHOD:PUBLISH
X-WR-CALNAME:Sagepoint Senior Living Services
X-ORIGINAL-URL:https://www.sagepointcare.org
X-WR-CALDESC:Events for Sagepoint Senior Living Services
BEGIN:VTIMEZONE
TZID:UTC
BEGIN:STANDARD
TZOFFSETFROM:+0000
TZOFFSETTO:+0000
TZNAME:UTC
DTSTART:20150101T000000
END:STANDARD
END:VTIMEZONE
BEGIN:VEVENT
DTSTART;TZID=UTC:20150218T100000
DTEND;TZID=UTC:20150218T110000
DTSTAMP:20260419T134143
CREATED:20150601T195219Z
LAST-MODIFIED:20150601T195219Z
UID:9254-1424253600-1424257200@www.sagepointcare.org
SUMMARY:Spring Reminiscing
DESCRIPTION:
URL:https://www.sagepointcare.org/activity/spring-reminiscing-2/
END:VEVENT
BEGIN:VEVENT
DTSTART;TZID=UTC:20150218T130000
DTEND;TZID=UTC:20150218T133000
DTSTAMP:20260419T134143
CREATED:20150601T195220Z
LAST-MODIFIED:20150601T195220Z
UID:9255-1424264400-1424266200@www.sagepointcare.org
SUMMARY:Bible Group Study
DESCRIPTION:
URL:https://www.sagepointcare.org/activity/bible-group-study-2/
END:VEVENT
BEGIN:VEVENT
DTSTART;TZID=UTC:20150218T133000
DTEND;TZID=UTC:20150218T143000
DTSTAMP:20260419T134143
CREATED:20150601T195220Z
LAST-MODIFIED:20150601T195220Z
UID:9256-1424266200-1424269800@www.sagepointcare.org
SUMMARY:Nathan Allen Johnson
DESCRIPTION:
URL:https://www.sagepointcare.org/activity/nathan-allen-johnson-2/
END:VEVENT
END:VCALENDAR